BEGIN:VCALENDAR
VERSION:2.0
PRODID:-//Leeds Jewish Community - ECPv6.3.5//NONSGML v1.0//EN
CALSCALE:GREGORIAN
METHOD:PUBLISH
X-WR-CALNAME:Leeds Jewish Community
X-ORIGINAL-URL:https://www.leedsjewishcommunity.com
X-WR-CALDESC:Events for Leeds Jewish Community
REFRESH-INTERVAL;VALUE=DURATION:PT1H
X-Robots-Tag:noindex
X-PUBLISHED-TTL:PT1H
BEGIN:VTIMEZONE
TZID:Europe/London
BEGIN:DAYLIGHT
TZOFFSETFROM:+0000
TZOFFSETTO:+0100
TZNAME:BST
DTSTART:20260329T010000
END:DAYLIGHT
BEGIN:STANDARD
TZOFFSETFROM:+0100
TZOFFSETTO:+0000
TZNAME:GMT
DTSTART:20261025T010000
END:STANDARD
END:VTIMEZONE
BEGIN:VEVENT
DTSTART;VALUE=DATE:20260425
DTEND;VALUE=DATE:20260426
DTSTAMP:20260425T113845
CREATED:20260114T125118Z
LAST-MODIFIED:20260114T125118Z
UID:5364-1777075200-1777161599@www.leedsjewishcommunity.com
SUMMARY:Parashat Achrei Mot-Kedoshim
DESCRIPTION:
URL:https://www.leedsjewishcommunity.com/event/parashat-achrei-mot-kedoshim-3/
CATEGORIES:Torah Reading
END:VEVENT
BEGIN:VEVENT
DTSTART;VALUE=DATE:20260425
DTEND;VALUE=DATE:20260426
DTSTAMP:20260425T113845
CREATED:20260114T125118Z
LAST-MODIFIED:20260114T125118Z
UID:5365-1777075200-1777161599@www.leedsjewishcommunity.com
SUMMARY:23rd day of the Omer
DESCRIPTION:
URL:https://www.leedsjewishcommunity.com/event/23rd-day-of-the-omer-5/
END:VEVENT
BEGIN:VEVENT
DTSTART;TZID=Europe/London:20260425T212700
DTEND;TZID=Europe/London:20260425T212700
DTSTAMP:20260425T113845
CREATED:20260114T125318Z
LAST-MODIFIED:20260114T125318Z
UID:5366-1777152420-1777152420@www.leedsjewishcommunity.com
SUMMARY:Havdalah
DESCRIPTION:
URL:https://www.leedsjewishcommunity.com/event/havdalah-241/
CATEGORIES:Candle Lighting
END:VEVENT
END:VCALENDAR